Workbook

Sheet Income Statement
A1: BUDGET CODE | B1: INCOME / EXPENSE CATEGORY | C1: 2019-2020 YTD Actuals | D1: 2020-2021 YTD Actuals | E1: YTD Actuals As Of April 2022 | F1: 2021-2022 FORECAST | G1: 2022-2023 BUDGET | H1: 2022-2023 BUDGET NOTES | I1: 2021-2022 FORECAST NOTES
B2: INCOME
A3: 1001 | B3: General Fundraiser Income: | C3: 11787.49 | D3: 3064.62 | E3: 5635.58 | F3: =SUM(F4:F12) -> 7197.98 | G3: =SUM(G4:G12) -> 8000
A4: 1001c | B4: Bingo | C4: 490 | D4: 0 | E4: 0 | G4: N/A | H4: Is Bingo happening and any % for STMAA or just students
A5: 1001a | B5: Gift Card / Ornament / Band Swag Drawing | C5: 355 | D5: 0 | E5: 0 | G5: 250 | H5: Coordinate drawing to coincide with Winter concert and holiday Jazz or Parent / Family Meeting in Fall
A6: 1001d | B6: Spirit Books | C6: 3988 | D6: 0 | E6: 0 | I6: See Double Good Popcorn
A7: 1001e | B7: See's Fall Fundraiser | C7: 0 | D7: 474.12 | E7: 0 | F7: 300.4 | G7: 250 | H7: Possible individual fundraiser if parent volunteer run | I7: No Fleetweek Competition - See's Fundraiser 11/15-11/30/21. Have not received valid check as of 4/30/22
A8: 1001j | B8: Driven Coffee Roasters | C8: 1983.1 | D8: 0 | E8: 397.58 | F8: 397.58 | G8: 400 | H8: Profit to individual student charm's account | I8: Actual profit 10/25-11/7/21
A9: 1001k | B9: Double Good Popcorn - Fall & Spring | C9: 0 | D9: 2000 | E9: 3316 | F9: 4500 | G9: 4500 | H9: Profit to individual student charm's account | I9: Actual profit 9/17-9/21/21. Possible May 2022 Doublegood Fundraiser
A10: 1001m | B10: Applebee's pancake breakfast | C10: 1211.39 | D10: 0 | E10: 0 | G10: 600
A11: 1001h | B11: Mattress Fundraiser (General) / Hibernate (Individual) | C11: 2805 | D11: 590.5 | E11: 1922 | F11: 2000 | G11: 2000 | I11: Mattress (Jan 2022) and Hibernate (April 2022)
A12: 1001f | B12: Spring Fundraiser (See DG Popcorn above) | C12: 955 | D12: 0 | E12: 0
A13: 1002 | B13: Concert ticket sales | C13: 2354.88 | D13: 0 | E13: 969.63 | F13: =SUM(F14:F18) -> 1719 | G13: =SUM(G14:G18) -> 1850
A14: 1002a | B14: Holiday jazz event / Poinsettia Sales | C14: 1014.88 | D14: 0 | E14: 333.2 | F14: 333 | G14: 250 | H14: Donations / Concessions/ Mdse | I14: December 2021
A15: 1002c | B15: Spring Jazz Concert | C15: -700 | D15: 0 | E15: 0 | F15: 500 | G15: 500 | H15: Tabard Theatre - Net ticket sale profit after rental of theatre | I15: May 2022 - Tabard Theatre - 5/25
A16: 1002d | B16: Fall Concert | C16: 749.75 | D16: 0 | E16: 0 | G16: 100 | H16: Donations only | I16: N/A in 2021
A17: 1002e | B17: Winter Concert / Poinsettia Sales | C17: 1290.25 | D17: 0 | E17: 636.43 | F17: 636 | G17: 750 | H17: Donations / Concessions/ Mdse | I17: December 2021
A18: 1002f | B18: Spring Concert | C18: 0 | D18: 0 | E18: 0 | F18: 250 | G18: 250 | H18: Donations / Concessions/ Mdse | I18: May 2022 - 5/16 & 5/17
A19: 1007 | B19: Music in the Parks Concessions | C19: 0 | D19: 0 | E19: 230 | F19: =230+100+100+200 -> 630 | G19: 650 | I19: APRIL / MAY 2022 - Concession with pre-packaged items - 3 Days in March ($230). Forecasting profit per day for 5/7 ($100), 5/14 ($100), 5/21 ($200)?
A20: 1015 | B20: Music Marathon / Vertical Raise | C20: 29389.88 | D20: 12368 | E20: 22880 | F20: =15880+7000 -> 22880 | G20: 31705 | I20: Updated to $15,880 for Vertical Raise and $7000 for Music Marathon / Silent Auction
A21: 1016 | B21: eScrip | C21: 0.82 | D21: 0.57 | E21: 0.35
A22: 1017 | B22: Amazonsmile | C22: 355.25 | D22: 293.8 | E22: 292.14 | F22: 292 | G22: 300
A23: 1020 | B23: Music in the Parks festival hosting | C23: 0 | D23: 0 | E23: 0 | F23: 2500 | G23: =500+1000+1500 -> 3000 | H23: 3 Dates: $500, $1000, $1500 | I23: 3/16/22 Contract Revision - 5/7 ($500), 5/14 ($500), 5/21 ($1500)
A24: 1021 | B24: Merchandise (Online store/FanCloth) | C24: 2465.54 | D24: 30 | E24: 2913.71 | F24: 2914 | G24: 2500 | H24: Same designer for Rainforest to design 2022-2023 show wear. | I24: BSN Fancloth Sales + Rainforest Mdse cost and sales
A25: 1027 | B25: Dine-Outs | C25: 1301.26 | D25: 1387.63 | E25: 2380.84 | F25: 2381 | G25: 2500 | I25: AUGUST TO MAY- 1 Per Mth - Actual profit as of 4/30/22
A26: 1101 | B26: Concert Band/Symphonic/WindEnsemble | C26: 9900 | D26: 5075 | E26: 9700 | F26: 9700 | G26: =+'Student Contribution Forecast'!F4+'Student Contribution Forecast'!F5 -> 7571 | H26: Student Contribution Tab Calculation | I26: Based on April 2022 YTD Actuals
A27: 1102 | B27: Marching Band & Color Guard | C27: 50650 | D27: 9000 | E27: 37742.1 | F27: 37742 | G27: =+'Student Contribution Forecast'!F2 -> 43842.5 | H27: Student Contribution Tab Calculation | I27: Based on April 2022 YTD Actuals
A28: 1103 | B28: Jazz Bands | C28: 2775 | D28: 1870 | E28: 6750 | F28: 6750 | G28: =+'Student Contribution Forecast'!F6+'Student Contribution Forecast'!F9+'Student Contribution Forecast'!F10 -> 6130 | H28: Student Contribution Tab Calculation | I28: Based on April 2022 YTD Actuals
A29: 1104 | B29: Winter Guard | C29: 4500 | D29: 0 | E29: 13650 | F29: 13650 | G29: =+'Student Contribution Forecast'!F7+'Student Contribution Forecast'!F8 -> 14047.5 | H29: Student Contribution Tab Calculation | I29: Based on April 2022 YTD Actuals
A30: 1105 | B30: Winter Percussion | E30: 7950 | F30: 7950 | G30: =+'Student Contribution Forecast'!F11 -> 9100 | H30: Student Contribution Tab Calculation | I30: Based on April 2022 YTD Actuals
A31: 1106 | B31: Donations to General Fund | C31: 1991 | D31: 8777.28 | E31: 1411 | F31: 1411 | I31: Actual donations as of 4/30/22
A32: 1107 | B32: Reserves (Misc Ledger) | C32: 8664.22 | D32: -9594.5 | E32: -6045.7 | F32: -6045.73 | G32: =F32 -> -6045.73 | H32: Money in Student's Charms Accounts | I32: Money in Student's Charms Accounts
A33: 1108 | B33: After School Music Programs | C33: 0 | D33: 0 | E33: 0
A34: 1109 | B34: Fleetweek Competition | C34: 2000 | D34: 0 | E34: 0 | F34: 0 | G34: 5000 | H34: Monday Oct 10th 2022: 1st place $10K, 2nd place $7K, 3rd place $5K, all others $2K | I34: No Fleetweek
B35: Income Totals | C35: =C3+C13+SUM(C19:C34) -> 128135.34 | D35: =D3+D13+SUM(D19:D34) -> 32272.4 | E35: =E3+E13+SUM(E19:E34) -> 106459.65 | F35: =F3+F13+SUM(F19:F34) -> 111671.25 | G35: =G3+G13+SUM(G19:G34) -> 130150.27
B37: EXPENDITURES
A38: 2303 | B38: Hotel WBA Championships | C38: 2233.05 | D38: 0 | E38: 0 | F38: 0 | G38: 0 | H38: Not Budgeting At This Time - $4600 - Nov 19-20, 2022 - Southern CA Hotel Fees - 23 Rooms: 17 students, 6 staff / bus driver, 1 Director @ $200 per room | I38: NOVEMBER - - MB Season will end 11/13/21 with the Logan Northern WBA Regional Champs- (Regional Championships - Day Trips. Budgeted below)
A39: 2304 | B39: Transportation | C39: 24560.97 | D39: 0 | E39: =SUM(E40:E54) -> 18066 | F39: =SUM(F40:F54) -> 21066.28 | G39: =SUM(G40:G54) -> 27375
A40: 2304a | B40: Sac State Super Show Comp Buses | C40: 2630 | D40: 0 | E40: 2900 | F40: 2900 | G40: 3000 | H40: 2 Buses (1 big / 1 small) - 11/5/22 | I40: Not attending 10/9 show. Using budget for WBA fees overage. Will attend an end of season exhibition benefit show. - 2 Buses
A41: 2304b | B41: Gilroy HS Comp Buses | C41: 2425 | D41: 0 | E41: 2480 | F41: 2480 | G41: 2700 | H41: 2 Buses (1 big / 1 small) - 10/15/22 | I41: Per Invoice
...

Sheet Student Contribution Forecast
A1: GROUP | C1: STUDENTS 2022-2023 | D1: CONTRIBUTIONS 2021-2022 | E1: Expected Contribution Rate % | F1: Total $ | G1: Budget Code
A2: Students - Marching Band (inc. Colorguard) | B2: Class | C2: 65 | D2: 950 | E2: =E23 -> 0.71 | F2: =+C2*D2*E2 -> 43842.5 | G2: 1102
A4: Students - Concert & Symphonic Band | B4: Class | C4: 50 | D4: 125 | E4: =E20 -> 0.68 | F4: =+C4*D4*E4 -> 4250 | G4: 1101
A5: Students - Wind Ensemble & Jazz I - WE ONLY | B5: Class | C5: 27 | D5: 150 | E5: =E25 -> 0.82 | F5: =+C5*D5*E5 -> 3321 | G5: 1101
A6: Students - Wind Ensemble & Jazz I -JAZZ 1 ONLY | B6: Class | C6: 12 | D6: 250 | E6: =E21 -> 0.57 | F6: =+C6*D6*E6 -> 1710 | G6: 1103
A7: Winter Guard (Varsity) | B7: Club | C7: 20 | D7: 650 | E7: =E27 -> 0.63 | F7: =+C7*D7*E7 -> 8190 | G7: 1104
A8: Winter Guard (JV) | B8: Club | C8: 15 | D8: 550 | E8: =E26 -> 0.71 | F8: =+C8*D8*E8 -> 5857.5 | G8: 1104
A9: Students - Jazz 2 | B9: Class | C9: 20 | D9: 250 | E9: =E22 -> 0.65 | F9: =+C9*D9*E9 -> 3250 | G9: 1103
A10: Jazz Combos | B10: Club | C10: 12 | D10: 150 | E10: 0.65 | F10: =+C10*D10*E10 -> 1170 | G10: 1103
A11: Winter Percussion | B11: Club | C11: 20 | D11: 700 | E11: 0.65 | F11: =+C11*D11*E11 -> 9100 | G11: 1105
E12: TOTAL | F12: =SUM(F2:F11) -> 80691
A16: Santa Teresa High School Band Student Fixed Payment Summary
A17: Prepared 4/3/2022 10:11 AM
A19: Item Name | B19: Item Amount | C19: Amt Expected | D19: Amt Collected | E19: %
A20: Concert Band | B20: 125 | C20: 3875 | D20: 2625 | E20: 0.68
A21: Jazz 1 | B21: 250 | C21: 5250 | D21: 3000 | E21: 0.57
A22: Jazz 2 | B22: 250 | C22: 5000 | D22: 3250 | E22: 0.65
A23: Marching Band and Color Guard | B23: 950 | C23: 53200 | D23: 37550 | E23: 0.71
A24: Symphonic Band | B24: 125 | C24: 2875 | D24: 2000 | E24: 0.7
A25: Wind Ensemble | B25: 150 | C25: 5850 | D25: 4800 | E25: 0.82
A26: Winter Guard JV | B26: 550 | C26: 7700 | D26: 5450 | E26: 0.71
A27: Winter Guard Varsity | B27: 650 | C27: 11700 | D27: 7400 | E27: 0.63
A28: Winter Percussion | B28: 600 | C28: 12000 | D28: 7650 | E28: 0.64
B29: Totals | C29: 107450 | D29: 73725 | E29: 0.69

Sheet Contractor Forecast
A1: Staff Member | B1: Last Name | C1: Position | D1: MB / CG $ - 3007 | E1: Winterguard $ - 4003A | F1: WinterPerc $ - 4003B | G1: Jazz $ - 5002d | H1: TOTAL
A2: Ryoken | B2: Apostol | C2: Visual / Drill Writer | F2: 2000 | H2: =SUM(D2:G2) -> 2000
A3: Benjamin | B3: Kane | C3: Music Instructor | D3: 2500 | H3: =SUM(D3:G3) -> 2500
A4: Anica | B4: Le | C4: Battery Tech | D4: 2500 | F4: 1500 | H4: =SUM(D4:G4) -> 4000
A5: Christine | B5: Lovejoy | C5: Jazz 2 | G5: 2500 | H5: =SUM(D5:G5) -> 2500
A6: Open | C6: Summer Percussion Instructor | D6: 700 | H6: =SUM(D6:G6) -> 700
A7: Elijah | B7: Morales | C7: Director | D7: 4500 | E7: 3000 | H7: =SUM(D7:G7) -> 7500
A8: Jerome | B8: Muynila | C8: Battery Tech | D8: 1500 | F8: 1500 | H8: =SUM(D8:G8) -> 3000
A9: Vivian | B9: Nguyen | C9: Front Ensemble | D9: 3000 | F9: 3000 | H9: =SUM(D9:G9) -> 6000
A10: Michaela | B10: Perez | C10: Percussion Caption | D10: 3200 | F10: 3000 | H10: =SUM(D10:G10) -> 6200
A11: Jacob | B11: Rocco | C11: Music Instructor | D11: 1500 | H11: =SUM(D11:G11) -> 1500
A12: Open | C12: Summer Colorguard | D12: 500 | H12: =SUM(D12:G12) -> 500
A13: Kristi | B13: Ryan | D13: 2500 | H13: =SUM(D13:G13) -> 2500
A14: Sean | B14: Ryan | D14: 500 | H14: =SUM(D14:G14) -> 500
A15: Shane | B15: Ryan | D15: 2000 | H15: =SUM(D15:G15) -> 2000
A16: Todd | B16: Ryan | D16: 3000 | H16: =SUM(D16:G16) -> 3000
A17: Joanna | B17: Salazar | C17: Technician | D17: 2500 | E17: 2000 | H17: =SUM(D17:G17) -> 4500
A18: Open | C18: Visual Technician | D18: 1750 | H18: =SUM(D18:G18) -> 1750
A19: Haneen | B19: Zain | C19: Technician | D19: 2750 | E19: 2000 | H19: =SUM(D19:G19) -> 4750
A20: Open - Jazz Combo Instructor | G20: 2000 | H20: =SUM(D20:G20) -> 2000
A21: Total BUDGET | D21: =SUM(D2:D19) -> 34900 | E21: =SUM(E2:E19) -> 7000 | F21: =SUM(F2:F19) -> 11000 | G21: =SUM(G2:G20) -> 4500 | H21: =SUM(H2:H20) -> 57400

Sheet Winter Program Non Staff Exps
B1: 4003A | C1: 4003B
B2: Winter Guard | C2: Winter Perc | D2: NOTES
A4: COSTUMING
A6: PRODUCTION
A8: CONSULTATION
A10: EQUIPMENT
A12: TRANSPORTATION
A14: COMPETITION FEES | D14: CCGC, NCPA Champs ($350), NCPA Show ($225)
A16: TOTAL | B16: =SUM(B4:B14) -> 0 | C16: =SUM(C4:C14) -> 0
A18: DATA NOT ENTERED AT THIS TIME
